BEGIN:VCALENDAR
VERSION:2.0
PRODID:-//BSA Troop 797 - ECPv6.15.15//NONSGML v1.0//EN
CALSCALE:GREGORIAN
METHOD:PUBLISH
X-WR-CALNAME:BSA Troop 797
X-ORIGINAL-URL:https://bsatroop797.com
X-WR-CALDESC:Events for BSA Troop 797
REFRESH-INTERVAL;VALUE=DURATION:PT1H
X-Robots-Tag:noindex
X-PUBLISHED-TTL:PT1H
BEGIN:VTIMEZONE
TZID:UTC
BEGIN:STANDARD
TZOFFSETFROM:+0000
TZOFFSETTO:+0000
TZNAME:UTC
DTSTART:19690101T000000
END:STANDARD
END:VTIMEZONE
BEGIN:VEVENT
DTSTART;VALUE=DATE:20250911
DTEND;VALUE=DATE:20250912
DTSTAMP:20260419T152553
CREATED:20250914T191952Z
LAST-MODIFIED:20250914T191952Z
UID:2250-1757548800-1757635199@bsatroop797.com
SUMMARY:District Round Table Meeting
DESCRIPTION:
URL:https://bsatroop797.com/event/district-round-table-meeting-9/
LOCATION:Texas
END:VEVENT
BEGIN:VEVENT
DTSTART;VALUE=DATE:20250907
DTEND;VALUE=DATE:20250908
DTSTAMP:20260419T152553
CREATED:20250723T210015Z
LAST-MODIFIED:20260203T191708Z
UID:2065-1757203200-1757289599@bsatroop797.com
SUMMARY:Troop 797 Meeting
DESCRIPTION:
URL:https://bsatroop797.com/event/meeting-11/
LOCATION:Pioneer Community Center\, 6510 Rohan Rd\, Richmond\, TX\, 77469
END:VEVENT
BEGIN:VEVENT
DTSTART;VALUE=DATE:20250824
DTEND;VALUE=DATE:20250825
DTSTAMP:20260419T152553
CREATED:20250722T185100Z
LAST-MODIFIED:20250723T212823Z
UID:1983-1755993600-1756079999@bsatroop797.com
SUMMARY:Mental Awareness Sessions
DESCRIPTION:
URL:https://bsatroop797.com/event/mental-awareness-sessions/
LOCATION:Texas
END:VEVENT
BEGIN:VEVENT
DTSTART;VALUE=DATE:20250824
DTEND;VALUE=DATE:20250825
DTSTAMP:20260419T152553
CREATED:20250721T165120Z
LAST-MODIFIED:20260203T191649Z
UID:1953-1755993600-1756079999@bsatroop797.com
SUMMARY:Troop 797 Meeting & Merit Coordinator Team
DESCRIPTION:Meeting & Merit Coordinator Team
URL:https://bsatroop797.com/event/meeting-merit-coordinator-team/
LOCATION:Texas
END:VEVENT
BEGIN:VEVENT
DTSTART;VALUE=DATE:20250817
DTEND;VALUE=DATE:20250818
DTSTAMP:20260419T152553
CREATED:20250721T165051Z
LAST-MODIFIED:20250721T165051Z
UID:1951-1755388800-1755475199@bsatroop797.com
SUMMARY:Pack 797 Transfer Scouts Orientation
DESCRIPTION:Pack 797 Transfer Scouts Orientation
URL:https://bsatroop797.com/event/pack-797-transfer-scouts-orientation/
LOCATION:Pioneer Community Center\, 6510 Rohan Rd\, Richmond\, TX\, 77469
END:VEVENT
BEGIN:VEVENT
DTSTART;TZID=UTC:20260419T152553
DTEND;TZID=UTC:20260419T152553
DTSTAMP:20260419T152553
CREATED:20250914T192412Z
LAST-MODIFIED:20260203T191624Z
UID:2256-0-0@bsatroop797.com
SUMMARY:Troop 797 Fall Camp
DESCRIPTION:
URL:https://bsatroop797.com/event/fall-camp-2/
LOCATION:Texas
END:VEVENT
END:VCALENDAR