BEGIN:VCALENDAR
VERSION:2.0
PRODID:-//BSA Troop 797 - ECPv6.15.15//NONSGML v1.0//EN
CALSCALE:GREGORIAN
METHOD:PUBLISH
X-ORIGINAL-URL:https://bsatroop797.com
X-WR-CALDESC:Events for BSA Troop 797
REFRESH-INTERVAL;VALUE=DURATION:PT1H
X-Robots-Tag:noindex
X-PUBLISHED-TTL:PT1H
BEGIN:VTIMEZONE
TZID:UTC
BEGIN:STANDARD
TZOFFSETFROM:+0000
TZOFFSETTO:+0000
TZNAME:UTC
DTSTART:20240101T000000
END:STANDARD
END:VTIMEZONE
BEGIN:VTIMEZONE
TZID:America/Chicago
BEGIN:DAYLIGHT
TZOFFSETFROM:-0600
TZOFFSETTO:-0500
TZNAME:CDT
DTSTART:20240310T080000
END:DAYLIGHT
BEGIN:STANDARD
TZOFFSETFROM:-0500
TZOFFSETTO:-0600
TZNAME:CST
DTSTART:20241103T070000
END:STANDARD
BEGIN:DAYLIGHT
TZOFFSETFROM:-0600
TZOFFSETTO:-0500
TZNAME:CDT
DTSTART:20250309T080000
END:DAYLIGHT
BEGIN:STANDARD
TZOFFSETFROM:-0500
TZOFFSETTO:-0600
TZNAME:CST
DTSTART:20251102T070000
END:STANDARD
BEGIN:DAYLIGHT
TZOFFSETFROM:-0600
TZOFFSETTO:-0500
TZNAME:CDT
DTSTART:20260308T080000
END:DAYLIGHT
BEGIN:STANDARD
TZOFFSETFROM:-0500
TZOFFSETTO:-0600
TZNAME:CST
DTSTART:20261101T070000
END:STANDARD
END:VTIMEZONE
BEGIN:VEVENT
DTSTART;VALUE=DATE:20251102
DTEND;VALUE=DATE:20251103
DTSTAMP:20260423T133815
CREATED:20250723T194250Z
LAST-MODIFIED:20260203T191538Z
UID:2005-1762041600-1762127999@bsatroop797.com
SUMMARY:Troop 797 Fall Merit Badge Fair
DESCRIPTION:Session 1 (9am – 11am)\nLunch/Break (11am – 12pm)\nSession 2 (12pm – 2pm)
URL:https://bsatroop797.com/event/fall-troop-797-merit-badge-fair/
LOCATION:Houston South JK\, 11111 Brooklet Dr\, Houston\, TX\, 77099
END:VEVENT
BEGIN:VEVENT
DTSTART;VALUE=DATE:20251113
DTEND;VALUE=DATE:20251114
DTSTAMP:20260423T133815
CREATED:20250723T195951Z
LAST-MODIFIED:20250723T195951Z
UID:2017-1762992000-1763078399@bsatroop797.com
SUMMARY:District Round Table Meeting
DESCRIPTION:
URL:https://bsatroop797.com/event/district-round-table-meeting-3/
END:VEVENT
BEGIN:VEVENT
DTSTART;VALUE=DATE:20251116
DTEND;VALUE=DATE:20251117
DTSTAMP:20260423T133815
CREATED:20250723T194501Z
LAST-MODIFIED:20260203T191159Z
UID:2011-1763251200-1763337599@bsatroop797.com
SUMMARY:Troop 797 Meeting
DESCRIPTION:
URL:https://bsatroop797.com/event/fall-camp/
END:VEVENT
BEGIN:VEVENT
DTSTART;TZID=UTC:20251127T070000
DTEND;TZID=UTC:20251127T120000
DTSTAMP:20260423T133815
CREATED:20250914T192538Z
LAST-MODIFIED:20250914T192538Z
UID:2258-1764226800-1764244800@bsatroop797.com
SUMMARY:City Wide Club Thanksgiving Feast
DESCRIPTION:
URL:https://bsatroop797.com/event/city-wide-club-thanksgiving-feast/
END:VEVENT
END:VCALENDAR